BEGIN:VCALENDAR
VERSION:2.0
PRODID:-//Mangalananda.org - ECPv6.8.3//NONSGML v1.0//EN
CALSCALE:GREGORIAN
METHOD:PUBLISH
X-ORIGINAL-URL:https://mangalananda.org
X-WR-CALDESC:Events for Mangalananda.org
REFRESH-INTERVAL;VALUE=DURATION:PT1H
X-Robots-Tag:noindex
X-PUBLISHED-TTL:PT1H
BEGIN:VTIMEZONE
TZID:America/Los_Angeles
BEGIN:DAYLIGHT
TZOFFSETFROM:-0800
TZOFFSETTO:-0700
TZNAME:PDT
DTSTART:20150308T100000
END:DAYLIGHT
BEGIN:STANDARD
TZOFFSETFROM:-0700
TZOFFSETTO:-0800
TZNAME:PST
DTSTART:20151101T090000
END:STANDARD
END:VTIMEZONE
BEGIN:VEVENT
DTSTART;TZID=America/Los_Angeles:20150207T190000
DTEND;TZID=America/Los_Angeles:20150207T210000
DTSTAMP:20260423T121456
CREATED:20150130T043313Z
LAST-MODIFIED:20150130T043313Z
UID:280-1423335600-1423342800@mangalananda.org
SUMMARY:Kirtan at 4th St. Yoga in Berkeley
DESCRIPTION:I’ll be once again at Barbara’s lovely studio in Berkeley with my full band to present a new set of lively Traditional kirtan from village India.
URL:https://mangalananda.org/event/kirtan-at-4th-st-yoga-in-berkeley/
LOCATION:4th Street Yoga\, 1809 4th St\, Berkeley\, CA\, United States
END:VEVENT
END:VCALENDAR