BEGIN:VCALENDAR
VERSION:2.0
PRODID:-//Mangalananda.org - ECPv6.8.3//NONSGML v1.0//EN
CALSCALE:GREGORIAN
METHOD:PUBLISH
X-WR-CALNAME:Mangalananda.org
X-ORIGINAL-URL:https://mangalananda.org
X-WR-CALDESC:Events for Mangalananda.org
REFRESH-INTERVAL;VALUE=DURATION:PT1H
X-Robots-Tag:noindex
X-PUBLISHED-TTL:PT1H
BEGIN:VTIMEZONE
TZID:America/Los_Angeles
BEGIN:DAYLIGHT
TZOFFSETFROM:-0800
TZOFFSETTO:-0700
TZNAME:PDT
DTSTART:20150308T100000
END:DAYLIGHT
BEGIN:STANDARD
TZOFFSETFROM:-0700
TZOFFSETTO:-0800
TZNAME:PST
DTSTART:20151101T090000
END:STANDARD
END:VTIMEZONE
BEGIN:VEVENT
DTSTART;TZID=America/Los_Angeles:20150718T193000
DTEND;TZID=America/Los_Angeles:20150718T213000
DTSTAMP:20260421T083916
CREATED:20150701T191902Z
LAST-MODIFIED:20150701T191902Z
UID:330-1437247800-1437255000@mangalananda.org
SUMMARY:Kirtan in  Novato at Sukha Yoga
DESCRIPTION:I will be joined by my entire band to share kirtan in this beautiful studio in Marin County\, about 30 minutes north of San Francisco. 7:30 PM; Susan Shloss on violin.\n 
URL:https://mangalananda.org/event/kirtan-in-novato-at-sukha-yoga/
LOCATION:Sukha Yoga\, 1020 Railroad Ave.\, Novato\, 94945\, United States
END:VEVENT
END:VCALENDAR