BEGIN:VCALENDAR
VERSION:2.0
PRODID:-//Mangalananda.org - ECPv6.8.3//NONSGML v1.0//EN
CALSCALE:GREGORIAN
METHOD:PUBLISH
X-ORIGINAL-URL:https://mangalananda.org
X-WR-CALDESC:Events for Mangalananda.org
REFRESH-INTERVAL;VALUE=DURATION:PT1H
X-Robots-Tag:noindex
X-PUBLISHED-TTL:PT1H
BEGIN:VTIMEZONE
TZID:America/Los_Angeles
BEGIN:DAYLIGHT
TZOFFSETFROM:-0800
TZOFFSETTO:-0700
TZNAME:PDT
DTSTART:20150308T100000
END:DAYLIGHT
BEGIN:STANDARD
TZOFFSETFROM:-0700
TZOFFSETTO:-0800
TZNAME:PST
DTSTART:20151101T090000
END:STANDARD
END:VTIMEZONE
BEGIN:VEVENT
DTSTART;TZID=America/Los_Angeles:20150724T193000
DTEND;TZID=America/Los_Angeles:20150724T213000
DTSTAMP:20260424T092330
CREATED:20150701T192353Z
LAST-MODIFIED:20150701T192353Z
UID:332-1437766200-1437773400@mangalananda.org
SUMMARY:Kirtan in Nevada City\, Northern CA
DESCRIPTION:Join us in this beautiful and pictuesque mountain town in Northern California. I’ll be  playing with Bob Couillard on guitar on Samarat Kakeri on tabla.\n 
URL:https://mangalananda.org/event/kirtan-in-nevada-city-northern-ca/
LOCATION:Inner Paths\, 200 Commercial St. \, Nevada City\, CA\, United States
END:VEVENT
END:VCALENDAR