BEGIN:VCALENDAR
VERSION:2.0
PRODID:-//Mangalananda.org - ECPv6.8.3//NONSGML v1.0//EN
CALSCALE:GREGORIAN
METHOD:PUBLISH
X-ORIGINAL-URL:https://mangalananda.org
X-WR-CALDESC:Events for Mangalananda.org
REFRESH-INTERVAL;VALUE=DURATION:PT1H
X-Robots-Tag:noindex
X-PUBLISHED-TTL:PT1H
BEGIN:VTIMEZONE
TZID:America/Los_Angeles
BEGIN:DAYLIGHT
TZOFFSETFROM:-0800
TZOFFSETTO:-0700
TZNAME:PDT
DTSTART:20150308T100000
END:DAYLIGHT
BEGIN:STANDARD
TZOFFSETFROM:-0700
TZOFFSETTO:-0800
TZNAME:PST
DTSTART:20151101T090000
END:STANDARD
END:VTIMEZONE
BEGIN:VEVENT
DTSTART;TZID=America/Los_Angeles:20150725T193000
DTEND;TZID=America/Los_Angeles:20150725T213000
DTSTAMP:20260421T124550
CREATED:20150701T192537Z
LAST-MODIFIED:20150701T192537Z
UID:334-1437852600-1437859800@mangalananda.org
SUMMARY:Kirtan at Beautiful Mt. Shasta
DESCRIPTION:If you are anywhere near\, this will really be fun! We’ll be sharing kirtan in the Peace Garden right in the shadow of magnificent Mt. Shasta\, the  home of so many spiritual groups and so much esoteric power. Again moving with Bob and Samarat. For more info\, please contact Alex and Terra Hallstrom: ammasatsangmtshasta@gmail.com; phone: 707-688-2185
URL:https://mangalananda.org/event/kirtan-at-beautiful-mt-shasta/
LOCATION:Mt.Shasta\, Mt. Shasta City\, CA\, United States
END:VEVENT
END:VCALENDAR