BEGIN:VCALENDAR
VERSION:2.0
PRODID:-//Mangalananda.org - ECPv6.8.3//NONSGML v1.0//EN
CALSCALE:GREGORIAN
METHOD:PUBLISH
X-ORIGINAL-URL:https://mangalananda.org
X-WR-CALDESC:Events for Mangalananda.org
REFRESH-INTERVAL;VALUE=DURATION:PT1H
X-Robots-Tag:noindex
X-PUBLISHED-TTL:PT1H
BEGIN:VTIMEZONE
TZID:America/Los_Angeles
BEGIN:DAYLIGHT
TZOFFSETFROM:-0800
TZOFFSETTO:-0700
TZNAME:PDT
DTSTART:20160313T100000
END:DAYLIGHT
BEGIN:STANDARD
TZOFFSETFROM:-0700
TZOFFSETTO:-0800
TZNAME:PST
DTSTART:20161106T090000
END:STANDARD
END:VTIMEZONE
BEGIN:VEVENT
DTSTART;TZID=America/Los_Angeles:20161015T130000
DTEND;TZID=America/Los_Angeles:20161016T190000
DTSTAMP:20260423T185934
CREATED:20160919T173102Z
LAST-MODIFIED:20160919T173102Z
UID:525-1476536400-1476644400@mangalananda.org
SUMMARY:Music\, Mantras and Ma-- a workshop with Sw. Gurusharan
DESCRIPTION:Swami Gurusharanananda\, the Head of our ashrams and school in Central India is once again coming to the  US. Swamiji is a giant in both body and heart and a wonderful\, loving and charismatic character that should not be missed. \n\nSwamiji and I have toured Europe together since 2007\, giving concerts\, classes and workshops to raise money for our free school in India. We will reunite to offer a workshop for this same purpose next month. \n\n\nThis workshop will explore the teachings and practices of Sri Anandamayi Ma on Yoga and Meditation. There will be exploration of the Principle of the Divine Feminine and invocation of the Divine Mother; practical instruction for deepening or developing a personal meditation practice\, and much joyful music and chanting. \n \nBeneficial for anyone seeking the deeper teachings and experience of true Yoga\, whether beginner or adept.\n\nFriday evening kirtan; Saturday and Sunday afternoon classes from 1:00 — 6:00 PM. Sunday morning\, special havan yajna (fire ritual) at the home of Mangalananda and Gloria.\n\nTuition for full program is only $108\n\nALL FUNDS GO DIRECTLY TO OUR SCHOOL FOR POOR VILLAGE CHILDREN IN INDIA.\n\nPre-registration is important\, as we will be providing food. To register\, send a check (tax deductible) made out to Children Of Ma\, for $108 to:\n\nMangalananda\n654 Hancock St.\nNovato\, CA 94945\n\nPLEASE INCLUDE YOUR NAME\, PHONE NUMBER AND E-MAIL ADDRESS!\n\nsee: www.masharanam.org  and  www.childrenofma.org\n\n\nFor more information contact Mangalananda at:\n\n\n\nmatriprasad@yahoo.com
URL:https://mangalananda.org/event/music-mantras-and-ma-a-workshop-with-sw-gurusharan/
LOCATION:Sukha Yoga\, 1020 Railroad Ave.\, Novato\, 94945\, United States
END:VEVENT
END:VCALENDAR