BEGIN:VCALENDAR
VERSION:2.0
PRODID:-//Mangalananda.org - ECPv6.8.3//NONSGML v1.0//EN
CALSCALE:GREGORIAN
METHOD:PUBLISH
X-ORIGINAL-URL:https://mangalananda.org
X-WR-CALDESC:Events for Mangalananda.org
REFRESH-INTERVAL;VALUE=DURATION:PT1H
X-Robots-Tag:noindex
X-PUBLISHED-TTL:PT1H
BEGIN:VTIMEZONE
TZID:America/Los_Angeles
BEGIN:DAYLIGHT
TZOFFSETFROM:-0800
TZOFFSETTO:-0700
TZNAME:PDT
DTSTART:20190310T100000
END:DAYLIGHT
BEGIN:STANDARD
TZOFFSETFROM:-0700
TZOFFSETTO:-0800
TZNAME:PST
DTSTART:20191103T090000
END:STANDARD
END:VTIMEZONE
BEGIN:VEVENT
DTSTART;TZID=America/Los_Angeles:20191222T180000
DTEND;TZID=America/Los_Angeles:20191222T210000
DTSTAMP:20260421T160452
CREATED:20191129T035718Z
LAST-MODIFIED:20191129T035718Z
UID:1243-1577037600-1577048400@mangalananda.org
SUMMARY:Matri Satsang of Anandamayi Ma
DESCRIPTION:On the fourth Sunday this month due to traveling schedule. We meet to invoke the Presence of Anandamayi Ma and study her teachings. Kirtan and meditation and spirited discussion. 
URL:https://mangalananda.org/event/matri-satsang-of-anandamayi-ma-19/
LOCATION:Sukha Yoga\, 1020 Railroad Ave.\, Novato\, 94945\, United States
END:VEVENT
END:VCALENDAR