BEGIN:VCALENDAR
VERSION:2.0
PRODID:-//Mangalananda.org - ECPv6.8.3//NONSGML v1.0//EN
CALSCALE:GREGORIAN
METHOD:PUBLISH
X-ORIGINAL-URL:https://mangalananda.org
X-WR-CALDESC:Events for Mangalananda.org
REFRESH-INTERVAL;VALUE=DURATION:PT1H
X-Robots-Tag:noindex
X-PUBLISHED-TTL:PT1H
BEGIN:VTIMEZONE
TZID:America/Los_Angeles
BEGIN:DAYLIGHT
TZOFFSETFROM:-0800
TZOFFSETTO:-0700
TZNAME:PDT
DTSTART:20200308T100000
END:DAYLIGHT
BEGIN:STANDARD
TZOFFSETFROM:-0700
TZOFFSETTO:-0800
TZNAME:PST
DTSTART:20201101T090000
END:STANDARD
END:VTIMEZONE
BEGIN:VEVENT
DTSTART;TZID=America/Los_Angeles:20200517T130000
DTEND;TZID=America/Los_Angeles:20200517T150000
DTSTAMP:20260421T115451
CREATED:20200428T192234Z
LAST-MODIFIED:20200428T192234Z
UID:1519-1589720400-1589727600@mangalananda.org
SUMMARY:Matri Satsang of Sri Anandamayi Ma
DESCRIPTION:We will meet on Zoom to invoke the Presence of Sri Anandamayi Ma and study her words\, teachings and life. A full participation event with open discussion\, kirtan and meditation. At 1:00 Pacific / 4:00 Eastern every third Sunday of the month \nTopic: Matri Satsang of Sri Anandamayi Ma\nTime: This is a recurring meeting Meet anytime\nJoin Zoom Meeting \nhttps://us02web.zoom.us/j/84971685163?pwd=WUVlUVVxV2FUZzVqaFJrRm53c2l2Zz09 \nMeeting ID: 849 7168 5163 \nPassword: 380036
URL:https://mangalananda.org/event/matri-satsang-of-sri-anandamayi-ma-11/
END:VEVENT
END:VCALENDAR