BEGIN:VCALENDAR
VERSION:2.0
PRODID:-//Mangalananda.org - ECPv6.8.3//NONSGML v1.0//EN
CALSCALE:GREGORIAN
METHOD:PUBLISH
X-ORIGINAL-URL:https://mangalananda.org
X-WR-CALDESC:Events for Mangalananda.org
REFRESH-INTERVAL;VALUE=DURATION:PT1H
X-Robots-Tag:noindex
X-PUBLISHED-TTL:PT1H
BEGIN:VTIMEZONE
TZID:America/Los_Angeles
BEGIN:DAYLIGHT
TZOFFSETFROM:-0800
TZOFFSETTO:-0700
TZNAME:PDT
DTSTART:20200308T100000
END:DAYLIGHT
BEGIN:STANDARD
TZOFFSETFROM:-0700
TZOFFSETTO:-0800
TZNAME:PST
DTSTART:20201101T090000
END:STANDARD
END:VTIMEZONE
BEGIN:VEVENT
DTSTART;TZID=America/Los_Angeles:20200531T130000
DTEND;TZID=America/Los_Angeles:20200531T143000
DTSTAMP:20260421T181143
CREATED:20200428T191947Z
LAST-MODIFIED:20200601T000709Z
UID:1517-1590930000-1590935400@mangalananda.org
SUMMARY:No Sunday Kirtan on Zoom
DESCRIPTION:We have cancelled the weekly Zoom kirtan due to sound issues. We will still have Matri Satsang via Zoom\, but will do kirtan on Facebook live. I will send out notices of future times and they will be posted on the website
URL:https://mangalananda.org/event/sunday-kirtan-on-zoom-4/
END:VEVENT
END:VCALENDAR