BEGIN:VCALENDAR
VERSION:2.0
PRODID:-//Mangalananda.org - ECPv6.8.3//NONSGML v1.0//EN
CALSCALE:GREGORIAN
METHOD:PUBLISH
X-WR-CALNAME:Mangalananda.org
X-ORIGINAL-URL:https://mangalananda.org
X-WR-CALDESC:Events for Mangalananda.org
REFRESH-INTERVAL;VALUE=DURATION:PT1H
X-Robots-Tag:noindex
X-PUBLISHED-TTL:PT1H
BEGIN:VTIMEZONE
TZID:America/Los_Angeles
BEGIN:DAYLIGHT
TZOFFSETFROM:-0800
TZOFFSETTO:-0700
TZNAME:PDT
DTSTART:20200308T100000
END:DAYLIGHT
BEGIN:STANDARD
TZOFFSETFROM:-0700
TZOFFSETTO:-0800
TZNAME:PST
DTSTART:20201101T090000
END:STANDARD
END:VTIMEZONE
BEGIN:VEVENT
DTSTART;TZID=America/Los_Angeles:20200606T190000
DTEND;TZID=America/Los_Angeles:20200606T200000
DTSTAMP:20260421T045628
CREATED:20200601T000033Z
LAST-MODIFIED:20200601T000033Z
UID:1638-1591470000-1591473600@mangalananda.org
SUMMARY:Zoom Kirtan with Mangalananda hosted by IYI
DESCRIPTION:Please join Gloria and me — the “Stay-at-Homes”– for lively Traditional Naam Kirtan (chanting of the Divine Names) as guests of Swami Ramananda at the IYI in San Francisco  \n https://integralyogasf.org/event/kirtan-with-acharya-mangalananda-3 \nplease register at this link and they will send you the Zoom link.
URL:https://mangalananda.org/event/zoom-kirtan-with-mangalananda-hosted-by-iyi/
END:VEVENT
END:VCALENDAR