BEGIN:VCALENDAR
VERSION:2.0
PRODID:-//Mangalananda.org - ECPv6.8.3//NONSGML v1.0//EN
CALSCALE:GREGORIAN
METHOD:PUBLISH
X-ORIGINAL-URL:https://mangalananda.org
X-WR-CALDESC:Events for Mangalananda.org
REFRESH-INTERVAL;VALUE=DURATION:PT1H
X-Robots-Tag:noindex
X-PUBLISHED-TTL:PT1H
BEGIN:VTIMEZONE
TZID:America/Los_Angeles
BEGIN:DAYLIGHT
TZOFFSETFROM:-0800
TZOFFSETTO:-0700
TZNAME:PDT
DTSTART:20220313T100000
END:DAYLIGHT
BEGIN:STANDARD
TZOFFSETFROM:-0700
TZOFFSETTO:-0800
TZNAME:PST
DTSTART:20221106T090000
END:STANDARD
END:VTIMEZONE
BEGIN:VEVENT
DTSTART;TZID=America/Los_Angeles:20220219T170000
DTEND;TZID=America/Los_Angeles:20220219T190000
DTSTAMP:20260421T115521
CREATED:20220213T222512Z
LAST-MODIFIED:20220213T222512Z
UID:2324-1645290000-1645297200@mangalananda.org
SUMMARY:New Year's Blessings from Ganesh
DESCRIPTION:Every year our friend Uma Reed hosts a very beautiful and meaningful evening\, invoking the blessings of Lord Ganesha on the New Year. This year the event was delayed with Covid difficulties\, but it will now be on Saturday\, February 19th. This year will once again be on Zoom. Mirabai Warkulwiz and I will share kirtan and stories along with Uma\, and Uma will lead us in invoking blessings and intentions for the New Year.  \nTo get the Zoom link\, please see:  umareed.com/schedule/ \nPlease join us!
URL:https://mangalananda.org/event/new-years-blessings-from-ganesh/
END:VEVENT
END:VCALENDAR