BEGIN:VCALENDAR
VERSION:2.0
PRODID:-//Mangalananda.org - ECPv6.8.3//NONSGML v1.0//EN
CALSCALE:GREGORIAN
METHOD:PUBLISH
X-ORIGINAL-URL:https://mangalananda.org
X-WR-CALDESC:Events for Mangalananda.org
REFRESH-INTERVAL;VALUE=DURATION:PT1H
X-Robots-Tag:noindex
X-PUBLISHED-TTL:PT1H
BEGIN:VTIMEZONE
TZID:America/Los_Angeles
BEGIN:DAYLIGHT
TZOFFSETFROM:-0800
TZOFFSETTO:-0700
TZNAME:PDT
DTSTART:20220313T100000
END:DAYLIGHT
BEGIN:STANDARD
TZOFFSETFROM:-0700
TZOFFSETTO:-0800
TZNAME:PST
DTSTART:20221106T090000
END:STANDARD
END:VTIMEZONE
BEGIN:VEVENT
DTSTART;TZID=America/Los_Angeles:20220220T130000
DTEND;TZID=America/Los_Angeles:20220220T150000
DTSTAMP:20260422T193259
CREATED:20220213T222118Z
LAST-MODIFIED:20220213T222118Z
UID:2322-1645362000-1645369200@mangalananda.org
SUMMARY:Matri Satsang of Anandamayi Ma (on Zoom)
DESCRIPTION:Sunday\, February 20th;  Matri Satsang; Hosted by Acharya Mangalananda; 1:00 PM Pacific / 4:00 PM Eastern \nWe meet with the idea of invoking the Presence of Sri Anandamayi Ma and studying her words\, life and teachings.\nA spirited discussion\, kirtan and meditation will follow. We are being joined now by people from all over the world. Come and share Ma’s Presence with us! \n https://us02web.zoom.us/j/84971685163?pwd=WUVlUVVxV2FUZzVqaFJrRm53c2l2Zz09   \nPasscode   380036\nMeeting ID 849 7168 5163 \nJai Ma!
URL:https://mangalananda.org/event/matri-satsang-of-anandamayi-ma-on-zoom-2/
END:VEVENT
END:VCALENDAR