BEGIN:VCALENDAR
VERSION:2.0
PRODID:-//Mangalananda.org - ECPv6.8.3//NONSGML v1.0//EN
CALSCALE:GREGORIAN
METHOD:PUBLISH
X-ORIGINAL-URL:https://mangalananda.org
X-WR-CALDESC:Events for Mangalananda.org
REFRESH-INTERVAL;VALUE=DURATION:PT1H
X-Robots-Tag:noindex
X-PUBLISHED-TTL:PT1H
BEGIN:VTIMEZONE
TZID:America/Los_Angeles
BEGIN:DAYLIGHT
TZOFFSETFROM:-0800
TZOFFSETTO:-0700
TZNAME:PDT
DTSTART:20220313T100000
END:DAYLIGHT
BEGIN:STANDARD
TZOFFSETFROM:-0700
TZOFFSETTO:-0800
TZNAME:PST
DTSTART:20221106T090000
END:STANDARD
END:VTIMEZONE
BEGIN:VEVENT
DTSTART;TZID=America/Los_Angeles:20220618T140000
DTEND;TZID=America/Los_Angeles:20220618T220000
DTSTAMP:20260421T084033
CREATED:20220604T214102Z
LAST-MODIFIED:20220604T214102Z
UID:2341-1655560800-1655589600@mangalananda.org
SUMMARY:Kirtan at Summer Solstice Celebration\, Petaluma
DESCRIPTION:Saturday\, June 18th; Summer Solstice Celebration with the Sikh Community;  \nWe have been invited to share kirtan at the Summer Solstice celebration in Peteluma this year. \nFor more info and to register: \nhttps://checkout.square.site/buy/APY5LUS76CWEJBG4VQ5O4MQS
URL:https://mangalananda.org/event/kirtan-at-summer-solstice-celebration-petaluma/
END:VEVENT
END:VCALENDAR