BEGIN:VCALENDAR
VERSION:2.0
PRODID:-//Mangalananda.org - ECPv6.8.3//NONSGML v1.0//EN
CALSCALE:GREGORIAN
METHOD:PUBLISH
X-WR-CALNAME:Mangalananda.org
X-ORIGINAL-URL:https://mangalananda.org
X-WR-CALDESC:Events for Mangalananda.org
REFRESH-INTERVAL;VALUE=DURATION:PT1H
X-Robots-Tag:noindex
X-PUBLISHED-TTL:PT1H
BEGIN:VTIMEZONE
TZID:America/Los_Angeles
BEGIN:DAYLIGHT
TZOFFSETFROM:-0800
TZOFFSETTO:-0700
TZNAME:PDT
DTSTART:20240310T100000
END:DAYLIGHT
BEGIN:STANDARD
TZOFFSETFROM:-0700
TZOFFSETTO:-0800
TZNAME:PST
DTSTART:20241103T090000
END:STANDARD
END:VTIMEZONE
BEGIN:VEVENT
DTSTART;TZID=America/Los_Angeles:20240810T150000
DTEND;TZID=America/Los_Angeles:20240810T180000
DTSTAMP:20260422T144518
CREATED:20240716T040429Z
LAST-MODIFIED:20240716T040429Z
UID:2489-1723302000-1723312800@mangalananda.org
SUMMARY:Afternoon Kirtan in Berkeley
DESCRIPTION:Saturday\, August 10th; Afternoon Kirtan in Berkeley; 110 Forest Lane\, Berkeley; 3:00 — 5:00 PM (please notice the early time) \nI will be with the full band to share kirtan in a large beautiful private studio in Berkeley overlooking the Bay. Gloria and I on vocals and harmonium; Susan Shloss on violin\, Robert Adamich on guitar; Greg Barnett on bass and Ramana Erickson on tabla. Come chant the Divine Names with us in joy!
URL:https://mangalananda.org/event/afternoon-kirtan-in-berkeley/
LOCATION:110 Forest Lane Berkeley\, CA\, 110 Forest Lane\, Berkeley\, CA\, United States
END:VEVENT
END:VCALENDAR