BEGIN:VCALENDAR
VERSION:2.0
PRODID:-//Mangalananda.org - ECPv6.8.3//NONSGML v1.0//EN
CALSCALE:GREGORIAN
METHOD:PUBLISH
X-WR-CALNAME:Mangalananda.org
X-ORIGINAL-URL:https://mangalananda.org
X-WR-CALDESC:Events for Mangalananda.org
REFRESH-INTERVAL;VALUE=DURATION:PT1H
X-Robots-Tag:noindex
X-PUBLISHED-TTL:PT1H
BEGIN:VTIMEZONE
TZID:America/Los_Angeles
BEGIN:DAYLIGHT
TZOFFSETFROM:-0800
TZOFFSETTO:-0700
TZNAME:PDT
DTSTART:20260308T100000
END:DAYLIGHT
BEGIN:STANDARD
TZOFFSETFROM:-0700
TZOFFSETTO:-0800
TZNAME:PST
DTSTART:20261101T090000
END:STANDARD
END:VTIMEZONE
BEGIN:VEVENT
DTSTART;TZID=America/Los_Angeles:20260103T150000
DTEND;TZID=America/Los_Angeles:20260103T170000
DTSTAMP:20260420T175858
CREATED:20260101T183748Z
LAST-MODIFIED:20260101T183748Z
UID:2616-1767452400-1767459600@mangalananda.org
SUMMARY:New Year's Ganesh Gathering and Kirtan
DESCRIPTION:Ganesh Gathering  \nfor an Auspicious New Year \nGanesh Kirtan with Uma and Friends (In Person: San Rafael)\nSaturday\, January 3\, 5pm \nJoin us on Saturday\, January 3rd for an auspicious start to the New Year by invoking Sri Ganesh and having community and New Year’s meditations and kirtan together. Presented every year by Uma Reed.  \n \nSliding scale at the door $20–$40 \n     Uma writes: Ganesh\, the sweet-tempered elephant-headed deity of Hinduism is praised as the remover of obstacles and bestower of success\, and is traditionally called upon at the start of any new undertaking. Come offer your prayers as we celebrate the New Year with songs invoking Ganesh through kirtan\, Vedic chant\, a prayer ritual and flower ceremony\, and Arati!\n     This year I’ll be joined by Mirabai and Acharya Mangalananda\, and my sons Matt and Jay. Gangadhar will be on tabla\, and his wife Rhonda will join us on tamboura. \nVENUE: Embrace Yoga\, 1122 4th St\, San Rafael (stairs)
URL:https://mangalananda.org/event/new-years-ganesh-gathering-and-kirtan/
END:VEVENT
END:VCALENDAR