BEGIN:VCALENDAR
VERSION:2.0
PRODID:-//Mangalananda.org - ECPv6.8.3//NONSGML v1.0//EN
CALSCALE:GREGORIAN
METHOD:PUBLISH
X-WR-CALNAME:Mangalananda.org
X-ORIGINAL-URL:https://mangalananda.org
X-WR-CALDESC:Events for Mangalananda.org
REFRESH-INTERVAL;VALUE=DURATION:PT1H
X-Robots-Tag:noindex
X-PUBLISHED-TTL:PT1H
BEGIN:VTIMEZONE
TZID:America/Los_Angeles
BEGIN:DAYLIGHT
TZOFFSETFROM:-0800
TZOFFSETTO:-0700
TZNAME:PDT
DTSTART:20150308T100000
END:DAYLIGHT
BEGIN:STANDARD
TZOFFSETFROM:-0700
TZOFFSETTO:-0800
TZNAME:PST
DTSTART:20151101T090000
END:STANDARD
END:VTIMEZONE
BEGIN:VEVENT
DTSTART;TZID=America/Los_Angeles:20150801T190000
DTEND;TZID=America/Los_Angeles:20150801T210000
DTSTAMP:20260425T123206
CREATED:20150802T215048Z
LAST-MODIFIED:20150802T215048Z
UID:337-1438455600-1438462800@mangalananda.org
SUMMARY:Kirtan at Sivananda Yoga
DESCRIPTION:Our first kirtan at the newly located center with its amazing staff and community. Come support this traditional\, long based San Francisco center in its new location. With my full band. 
URL:https://mangalananda.org/event/kirtan-at-sivananda-yoga/
LOCATION:Sivananda Yoga\, 1185 Vicente Street \, San Francisco\, CA\, United States
END:VEVENT
BEGIN:VEVENT
DTSTART;TZID=America/Los_Angeles:20150813T190000
DTEND;TZID=America/Los_Angeles:20150813T210000
DTSTAMP:20260425T123206
CREATED:20150802T215222Z
LAST-MODIFIED:20150802T215222Z
UID:339-1439492400-1439499600@mangalananda.org
SUMMARY:Monthly kirtan class at Open Secret
DESCRIPTION:I’ll be joined by Bob Couillard on guitar and Gangadhar on tabla to further  explore the depths of kirtan in this informal class in an intimate setting. From 7:00 PM
URL:https://mangalananda.org/event/monthly-kirtan-class-at-open-secret-5/
LOCATION:Open Secret Bookstore\, 923 C Street\, San Rafael\, CA\, 94901\, United States
END:VEVENT
BEGIN:VEVENT
DTSTART;TZID=America/Los_Angeles:20150815T200000
DTEND;TZID=America/Los_Angeles:20150815T220000
DTSTAMP:20260425T123206
CREATED:20150802T215754Z
LAST-MODIFIED:20150802T215754Z
UID:340-1439668800-1439676000@mangalananda.org
SUMMARY:Kirtan at Yoga  Tree in Corte Madera
DESCRIPTION:My first time in this beautiful studio in Marin County just slightly north of the City \nfor pre-registration\, see: http://bit.ly/AcharyaMangalanandaKirtanAug15CorteMadera
URL:https://mangalananda.org/event/kirtan-at-yoga-tree-in-corte-madera/
LOCATION:Yoga Tree\, 67 Tamal Vista Blvd.\, Corte Madera\, CA\, 94925\, United States
END:VEVENT
BEGIN:VEVENT
DTSTART;TZID=America/Los_Angeles:20150816T173000
DTEND;TZID=America/Los_Angeles:20150816T193000
DTSTAMP:20260425T123206
CREATED:20150802T215955Z
LAST-MODIFIED:20150802T215955Z
UID:343-1439746200-1439753400@mangalananda.org
SUMMARY:Matri Satsang of Sri Anandamayi Ma
DESCRIPTION:Please join us to learn more of Sri Anandamayi Ma and the Divine Mother Principal in general. We will meet with the intention of invoking\, studying and being blessed and lifted by Anandamayi Ma. We will sing some Ma kirtan\, read her words and discuss them\, sing the Ma Chalisa and have some group meditation time. We now are in such a wonderful new venue! We will meet every third Sunday of the month.\nSukha Yoga\, 1020 Railroad Ave\, Novato\, CA 94945\n \nFrom I 101\, take the DeLong exit for downtown Novato.\nTurn west towards downtown. At the stoplight of Reichert (at Whole Foods) turn right.\nThe next street\, on Grant turn right\nCross the railroad tracks and on Railroad Ave. turn left\nSlightly ahead on the right\, 2nd floor\nFrom 5:30 — 7:30 PM
URL:https://mangalananda.org/event/matri-satsang-of-sri-anandamayi-ma/
LOCATION:Sukha Yoga\, 1020 Railroad Ave.\, Novato\, 94945\, United States
END:VEVENT
BEGIN:VEVENT
DTSTART;TZID=America/Los_Angeles:20150822T190000
DTEND;TZID=America/Los_Angeles:20150822T210000
DTSTAMP:20260425T123206
CREATED:20150802T220155Z
LAST-MODIFIED:20150802T220155Z
UID:344-1440270000-1440277200@mangalananda.org
SUMMARY:Kirtan at Sivananda Yoga Farm in Grass Valley
DESCRIPTION:Come to this beautiful Yoga Retreat for one of their running events and share kirtan with me and my supporting local musicians. see:\n \nhttps://www.sivanandayogafarm.org/course/4245
URL:https://mangalananda.org/event/kirtan-at-sivananda-yoga-farm-in-grass-valley/
LOCATION:Sivananda Yoga Farm\, 14651 Ballantree Lane\, Grass Valley\, CA\, 95949\, United States
END:VEVENT
BEGIN:VEVENT
DTSTART;TZID=America/Los_Angeles:20150830T133000
DTEND;TZID=America/Los_Angeles:20150830T163000
DTSTAMP:20260425T123206
CREATED:20150802T220450Z
LAST-MODIFIED:20150802T220450Z
UID:345-1440941400-1440952200@mangalananda.org
SUMMARY:Workshop in Swakriya Yoga at the Yoga Tree\, Corte Madera
DESCRIPTION:Come and join me for the experience of Swakriya Yoga — the Experience of Unity. A yoga class such as you have never experienced. Through the medium of simple movements\, mantras and guided meditation\, we tune into the Elements of Nature through the chakras to begin to expand the consciousness into an experience of Divine Unity. Deepen your spiritual life through direct experience. For registration:\n \nSee: http://bit.ly/AcharyaMangalanandaSwakriyaYogaAug30CorteMadera
URL:https://mangalananda.org/event/workshop-in-swakriya-yoga-at-the-yoga-tree-corte-madera/
LOCATION:Yoga Tree\, 67 Tamal Vista Blvd.\, Corte Madera\, CA\, 94925\, United States
END:VEVENT
END:VCALENDAR