BEGIN:VCALENDAR
VERSION:2.0
PRODID:-//Mangalananda.org - ECPv6.8.3//NONSGML v1.0//EN
CALSCALE:GREGORIAN
METHOD:PUBLISH
X-ORIGINAL-URL:https://mangalananda.org
X-WR-CALDESC:Events for Mangalananda.org
REFRESH-INTERVAL;VALUE=DURATION:PT1H
X-Robots-Tag:noindex
X-PUBLISHED-TTL:PT1H
BEGIN:VTIMEZONE
TZID:America/Los_Angeles
BEGIN:DAYLIGHT
TZOFFSETFROM:-0800
TZOFFSETTO:-0700
TZNAME:PDT
DTSTART:20150308T100000
END:DAYLIGHT
BEGIN:STANDARD
TZOFFSETFROM:-0700
TZOFFSETTO:-0800
TZNAME:PST
DTSTART:20151101T090000
END:STANDARD
END:VTIMEZONE
BEGIN:VEVENT
DTSTART;TZID=America/Los_Angeles:20150910T190000
DTEND;TZID=America/Los_Angeles:20150910T210000
DTSTAMP:20260424T201925
CREATED:20150824T192211Z
LAST-MODIFIED:20150825T005802Z
UID:352-1441911600-1441918800@mangalananda.org
SUMMARY:Monthly Kirtan at Open Secret Bookstore
DESCRIPTION:We continue our monthly deep exploration of raga\, taal and bhaav. Performing new kirtans and delving deeply into their meaning and effect. In the intimate setting of the Temple Room at Open Secret.
URL:https://mangalananda.org/event/monthly-kirtan-at-open-secret-bookstore-6/
LOCATION:Open Secret Bookstore\, 923 C Street\, San Rafael\, CA\, 94901\, United States
END:VEVENT
BEGIN:VEVENT
DTSTART;TZID=America/Los_Angeles:20150913T090000
DTEND;TZID=America/Los_Angeles:20150913T120000
DTSTAMP:20260424T201925
CREATED:20150824T192358Z
LAST-MODIFIED:20150824T193310Z
UID:353-1442134800-1442145600@mangalananda.org
SUMMARY:Workshop in Divine Unity -- Swakriya Yoga
DESCRIPTION:Take the next step in deepening your spiritual life by participating in the experience of Swakriya Yoga. This presentation is a specialty of our Anandamayi Ma Ashrams in India. Through the medium of simple movements\, breathing and guided meditations\, the participants can experience a widening of consciousness and a deep sense of the Unity of Life that all true spiritual teachers emphasize in their instructions. Relevant to aspirants in any stage of their practice. Swami Gurusharanananda and I have received wonderful responses from these classes during our yearly tours of Europe. \nFor registration:        http://integralyogasf.org/workshops-and-events/ \n 
URL:https://mangalananda.org/event/workshop-in-divine-unity-swakriya-yoga/
LOCATION:Integral Yoga Institute of San Francisco\, 770 Dolores Street\, San Francisco\, CA\, 94114\, United States
END:VEVENT
BEGIN:VEVENT
DTSTART;TZID=America/Los_Angeles:20150917T080000
DTEND;TZID=America/Los_Angeles:20150917T170000
DTSTAMP:20260424T201925
CREATED:20150824T192449Z
LAST-MODIFIED:20150824T193328Z
UID:354-1442476800-1442509200@mangalananda.org
SUMMARY:I’ll be driving down to southern CA with two members of my band on the weekend of Sept. 17th
DESCRIPTION:
URL:https://mangalananda.org/event/ill-be-driving-down-to-southern-ca-with-two-members-of-my-band-on-the-weekend-of-sept-17th/
END:VEVENT
BEGIN:VEVENT
DTSTART;TZID=America/Los_Angeles:20150918T200000
DTEND;TZID=America/Los_Angeles:20150918T220000
DTSTAMP:20260424T201925
CREATED:20150824T192620Z
LAST-MODIFIED:20150824T193355Z
UID:355-1442606400-1442613600@mangalananda.org
SUMMARY:Kirtan at Bhakti Yoga Shala\, Santa Monica (LA area)
DESCRIPTION:Join us for kirtan in this famous studio of kirtan and bhakti\, run by Govindas and Radha. With my band\, joined by Cooper Madison on tabla. Come sing with authentic\, raga-based kirtan from village India.  \nLink: http://www.bhaktiyogashala.com/special_event.html
URL:https://mangalananda.org/event/kirtan-at-bhakti-yoga-shala-santa-monica-la-area/
LOCATION:Bhakti Yoga Shala\, 207 Arizona Avenue\, Santa Monica\, CA\, 90405\, United States
END:VEVENT
BEGIN:VEVENT
DTSTART;TZID=America/Los_Angeles:20150919T180000
DTEND;TZID=America/Los_Angeles:20150919T193000
DTSTAMP:20260424T201925
CREATED:20150824T193548Z
LAST-MODIFIED:20150824T193548Z
UID:356-1442685600-1442691000@mangalananda.org
SUMMARY:Lila Fest! -- a wonderful fundraiser event for Self Realization Fellowship
DESCRIPTION:Join us at the beautiful Rancho Encinitas Academy School (910 Encinitas Blvd.) for kirtan benefitting a worthy cause in the Self Realization Fellowship Youth  Projects. With my band and Cooper Madison on tabla. Deep\, meditative mantras and rousing devotional kirtan from village India.  \nFor tickets: http://www.chelagala.org/Events/LilaFestLite2015Tickets
URL:https://mangalananda.org/event/lila-fest-a-wonderful-fundraiser-event-for-self-realization-fellowship/
LOCATION:Rancho Encinitas Academy School\, 910 Encinitas Blvd\, Encinitas\, CA\, United States
END:VEVENT
BEGIN:VEVENT
DTSTART;TZID=America/Los_Angeles:20150920T193000
DTEND;TZID=America/Los_Angeles:20150920T213000
DTSTAMP:20260424T201925
CREATED:20150824T193931Z
LAST-MODIFIED:20150824T193931Z
UID:361-1442777400-1442784600@mangalananda.org
SUMMARY:Kirtan in Santa Barbara
DESCRIPTION:Our first time in this lovely studio where kirtan is a regular event. If you’re in the area\, come and sing the Lord’s Names with us.
URL:https://mangalananda.org/event/kirtan-in-santa-barbara/
LOCATION:Yoga Soup\, 28 Parker Way\, Santa Barbara\, CA\, United States
END:VEVENT
BEGIN:VEVENT
DTSTART;TZID=America/Los_Angeles:20150926T190000
DTEND;TZID=America/Los_Angeles:20150926T210000
DTSTAMP:20260424T201925
CREATED:20150824T194151Z
LAST-MODIFIED:20150824T194151Z
UID:363-1443294000-1443301200@mangalananda.org
SUMMARY:Kirtan at Integral Yoga in San Francisco
DESCRIPTION:We return to this deep and established Center of spirituality in San Francisco. Join us for kirtan in an intimate setting with their vibrant spiritual community. With my full band.  \n  \nLink: http://integralyogasf.org/workshops-and-events/
URL:https://mangalananda.org/event/kirtan-at-integral-yoga-in-san-francisco-2/
LOCATION:Integral Yoga Institute of San Francisco\, 770 Dolores Street\, San Francisco\, CA\, 94114\, United States
END:VEVENT
BEGIN:VEVENT
DTSTART;TZID=America/Los_Angeles:20150927T173000
DTEND;TZID=America/Los_Angeles:20150927T193000
DTSTAMP:20260424T201925
CREATED:20150825T171123Z
LAST-MODIFIED:20150825T171204Z
UID:365-1443375000-1443382200@mangalananda.org
SUMMARY:Matri Satsang of Sri Anandamayi Ma
DESCRIPTION:Although we try to have the Matri Satsang on every THIRD SUNDAY of the month\, this month both Gloria and I will be out of town\, so we have to switch it to the fourth Sunday. In future\, unless otherwise announced\, every third Sunday.\n\n\n\n\n\nPlease join us to learn more of Sri Anandamayi Ma and the Divine Mother Principal in general. We will meet with the intention of invoking\, studying and being blessed and lifted by Anandamayi Ma. We will sing some Ma kirtan\, read her words and discuss them\, sing the Ma Chalisa and have some group meditation time. We now are in such a wonderful new venue! We will meet every third Sunday of the month.\nSukha Yoga\, 1020 Railroad Ave\, Novato\, CA 94945\n \nFrom I 101\, take the DeLong exit for downtown Novato.\nTurn west towards downtown. At the stoplight of Reichert (at Whole Foods) turn right.\nThe next street\, on Grant turn right\nCross the railroad tracks and on Railroad Ave. turn left\nSlightly ahead on the right\, 2nd floor\nFrom 5:30 — 7:30 PM
URL:https://mangalananda.org/event/matri-satsang-of-sri-anandamayi-ma-2/
LOCATION:Sukha Yoga\, 1020 Railroad Ave.\, Novato\, 94945\, United States
END:VEVENT
END:VCALENDAR