BEGIN:VCALENDAR
VERSION:2.0
PRODID:-//Mangalananda.org - ECPv6.8.3//NONSGML v1.0//EN
CALSCALE:GREGORIAN
METHOD:PUBLISH
X-ORIGINAL-URL:https://mangalananda.org
X-WR-CALDESC:Events for Mangalananda.org
REFRESH-INTERVAL;VALUE=DURATION:PT1H
X-Robots-Tag:noindex
X-PUBLISHED-TTL:PT1H
BEGIN:VTIMEZONE
TZID:America/Los_Angeles
BEGIN:DAYLIGHT
TZOFFSETFROM:-0800
TZOFFSETTO:-0700
TZNAME:PDT
DTSTART:20190310T100000
END:DAYLIGHT
BEGIN:STANDARD
TZOFFSETFROM:-0700
TZOFFSETTO:-0800
TZNAME:PST
DTSTART:20191103T090000
END:STANDARD
END:VTIMEZONE
BEGIN:VEVENT
DTSTART;TZID=America/Los_Angeles:20190608T183000
DTEND;TZID=America/Los_Angeles:20190608T210000
DTSTAMP:20260425T194404
CREATED:20190603T015153Z
LAST-MODIFIED:20190603T015153Z
UID:1076-1560018600-1560027600@mangalananda.org
SUMMARY:Kirtan in Berkeley
DESCRIPTION:Kirtan with the Art of Living Group from Oakland; held at the United Methodist Church; 1710 Carleton street\, Berkeley. \nWe will begin at 6:30 PM. Opening will be Johnathan Tang from 6:30 to 7:30\, and Mangalananda and Friends will lead kirtan from 7:30 to 9:00. \nWith Susan Shloss on violin\, Robert Adamich on guitar and Ramana Erickson on tabla. Carol Whitney and Gloria SiriRam Kaur will sing back up with me.
URL:https://mangalananda.org/event/kirtan-in-berkeley-3/
END:VEVENT
BEGIN:VEVENT
DTSTART;TZID=America/Los_Angeles:20190613T193000
DTEND;TZID=America/Los_Angeles:20190613T210000
DTSTAMP:20260425T194404
CREATED:20190603T015333Z
LAST-MODIFIED:20190603T015333Z
UID:1078-1560454200-1560459600@mangalananda.org
SUMMARY:Monthly Kirtan at Open Secret
DESCRIPTION:A beautiful and intimate space in the Temple Room of the Bookstore; Different kirtans every month. With Narayan Dass Ruff on twelve string\, Upendra Wrinkle on flute and Gangadhar Gerhard on tabla. 
URL:https://mangalananda.org/event/monthly-kirtan-at-open-secret-14/
LOCATION:Open Secret Bookstore\, 923 C Street\, San Rafael\, CA\, 94901\, United States
END:VEVENT
BEGIN:VEVENT
DTSTART;TZID=America/Los_Angeles:20190615T193000
DTEND;TZID=America/Los_Angeles:20190615T210000
DTSTAMP:20260425T194404
CREATED:20190603T015954Z
LAST-MODIFIED:20190603T015954Z
UID:1080-1560627000-1560632400@mangalananda.org
SUMMARY:Kirtan in Fremont (south East Bay)
DESCRIPTION:If you are anywhere in South Bay or south in East Bay\, please join us in Fremont for another new venue. A beautiful new studio– new faces\, new hearts. Come and chant with us! With Narayan Das Ruff on twelve string\, Upendra Wrinkle on flute and Gangadhar Gerhard on tabla. 
URL:https://mangalananda.org/event/kirtan-in-fremont-south-east-bay/
LOCATION:Spiritual Alignment Yoga and Healing Center\, 37485 Niles Blvd\, Fremont\, CA\, United States
END:VEVENT
BEGIN:VEVENT
DTSTART;TZID=America/Los_Angeles:20190616T180000
DTEND;TZID=America/Los_Angeles:20190616T200000
DTSTAMP:20260425T194404
CREATED:20190603T020058Z
LAST-MODIFIED:20190603T020058Z
UID:1083-1560708000-1560715200@mangalananda.org
SUMMARY:Monthly Matri Satsang of Anandamayi Ma
DESCRIPTION:We meet with the intention of invoking the Presence of Sri Anandamayi Ma and studying Her words and instructions for life and spirituality. Please join us to know more about Ma and to tune in to Her. Informal and lively discussion\, kirtan and meditatioin. 
URL:https://mangalananda.org/event/monthly-matri-satsang-of-anandamayi-ma-9/
LOCATION:Sukha Yoga\, 1020 Railroad Ave.\, Novato\, 94945\, United States
END:VEVENT
END:VCALENDAR