BEGIN:VCALENDAR
VERSION:2.0
PRODID:-//Mangalananda.org - ECPv6.8.3//NONSGML v1.0//EN
CALSCALE:GREGORIAN
METHOD:PUBLISH
X-WR-CALNAME:Mangalananda.org
X-ORIGINAL-URL:https://mangalananda.org
X-WR-CALDESC:Events for Mangalananda.org
REFRESH-INTERVAL;VALUE=DURATION:PT1H
X-Robots-Tag:noindex
X-PUBLISHED-TTL:PT1H
BEGIN:VTIMEZONE
TZID:America/Los_Angeles
BEGIN:DAYLIGHT
TZOFFSETFROM:-0800
TZOFFSETTO:-0700
TZNAME:PDT
DTSTART:20220313T100000
END:DAYLIGHT
BEGIN:STANDARD
TZOFFSETFROM:-0700
TZOFFSETTO:-0800
TZNAME:PST
DTSTART:20221106T090000
END:STANDARD
END:VTIMEZONE
BEGIN:VEVENT
DTSTART;TZID=America/Los_Angeles:20220611T200000
DTEND;TZID=America/Los_Angeles:20220611T220000
DTSTAMP:20260420T122123
CREATED:20220604T213859Z
LAST-MODIFIED:20220604T213859Z
UID:2339-1654977600-1654984800@mangalananda.org
SUMMARY:Kirtan at Sivananda Yoga Farm\, Grass Valley
DESCRIPTION:Saturday\, June 11th; 8:00 PM;  Kirtan at Sivananda Yoga Farm\, Grass Valley\, CA \nGloria and I will be sharing kirtan at the 50th Anniversary of the Yoga Farm. Here is the link: \nYoga Farm 50 Years Celebration
URL:https://mangalananda.org/event/kirtan-at-sivananda-yoga-farm-grass-valley-4/
END:VEVENT
BEGIN:VEVENT
DTSTART;TZID=America/Los_Angeles:20220618T140000
DTEND;TZID=America/Los_Angeles:20220618T220000
DTSTAMP:20260420T122123
CREATED:20220604T214102Z
LAST-MODIFIED:20220604T214102Z
UID:2341-1655560800-1655589600@mangalananda.org
SUMMARY:Kirtan at Summer Solstice Celebration\, Petaluma
DESCRIPTION:Saturday\, June 18th; Summer Solstice Celebration with the Sikh Community;  \nWe have been invited to share kirtan at the Summer Solstice celebration in Peteluma this year. \nFor more info and to register: \nhttps://checkout.square.site/buy/APY5LUS76CWEJBG4VQ5O4MQS
URL:https://mangalananda.org/event/kirtan-at-summer-solstice-celebration-petaluma/
END:VEVENT
BEGIN:VEVENT
DTSTART;TZID=America/Los_Angeles:20220619T130000
DTEND;TZID=America/Los_Angeles:20220619T150000
DTSTAMP:20260420T122123
CREATED:20220604T214322Z
LAST-MODIFIED:20220604T214322Z
UID:2344-1655643600-1655650800@mangalananda.org
SUMMARY:Satsang of Sri Anandamayi Ma on Zoom
DESCRIPTION:Sunday\, June 19th;  Matri Satsang; Hosted by Acharya Mangalananda; 1:00 PM Pacific / 4:00 PM Eastern \nWe meet with the idea of invoking the Presence of Sri Anandamayi Ma and studying her words\, life and teachings.\nA spirited discussion\, kirtan and meditation will follow. We are being joined now by people from all over the world. Come and share Ma’s Presence with us! \n https://us02web.zoom.us/j/84971685163?pwd=WUVlUVVxV2FUZzVqaFJrRm53c2l2Zz09   \nPasscode   380036\nMeeting ID 849 7168 5163 \nWith the permission of our Satsang participants\, we are now recording the monthly Matri Satsangs\, and they are posted to a new Youtube channel for later reference\, or if you missed the live streams. Please see “Anandamayi Ma Satsang West” on Youtube. Here’s the link for last month’s: \n(257) Satsang of Anandamayi Ma West 3-20-22 – YouTube
URL:https://mangalananda.org/event/satsang-of-sri-anandamayi-ma-on-zoom/
END:VEVENT
END:VCALENDAR