BEGIN:VCALENDAR
VERSION:2.0
PRODID:-//Mangalananda.org - ECPv6.8.3//NONSGML v1.0//EN
CALSCALE:GREGORIAN
METHOD:PUBLISH
X-ORIGINAL-URL:https://mangalananda.org
X-WR-CALDESC:Events for Mangalananda.org
REFRESH-INTERVAL;VALUE=DURATION:PT1H
X-Robots-Tag:noindex
X-PUBLISHED-TTL:PT1H
BEGIN:VTIMEZONE
TZID:America/Los_Angeles
BEGIN:DAYLIGHT
TZOFFSETFROM:-0800
TZOFFSETTO:-0700
TZNAME:PDT
DTSTART:20240310T100000
END:DAYLIGHT
BEGIN:STANDARD
TZOFFSETFROM:-0700
TZOFFSETTO:-0800
TZNAME:PST
DTSTART:20241103T090000
END:STANDARD
END:VTIMEZONE
BEGIN:VEVENT
DTSTART;TZID=America/Los_Angeles:20241117T130000
DTEND;TZID=America/Los_Angeles:20241117T150000
DTSTAMP:20260424T173305
CREATED:20241027T234332Z
LAST-MODIFIED:20241027T234332Z
UID:2520-1731848400-1731855600@mangalananda.org
SUMMARY:Matri Satsang of Anandamayi Ma on Zoom
DESCRIPTION:Sunday\, November 17th; Matri Satsang of Anandamayi Ma on ZOOM; 1:00 PM Pacific Time/4:00 PM Eastern \nHosted by Acharya Mangalananda and Prajna Hallstrom. We meet with the idea of invoking the Presence of Sri Anandamayi Ma and studying her words\, life and teachings. We are being joined now by people from all over the world. Come and share Ma’s Presence with us! \nhttps://us02web.zoom.us/j/84971685163?pwd=WUVlUVVxV2FUZzVqaFJrRm53c2l2Zz09    \nPasscode   380036 \nMeeting ID 849 7168 5163 \nWith the permission of our Satsang participants\, we are now recording the monthly Matri Satsangs\, and they are posted to a new Youtube channel for later reference\, or if you missed the live streams. Please see “Anandamayi Ma Satsang West” on Youtube. Here’s the link for last month’s satsang: \nSatsang of Sri Anandamayi Ma Sunday 10-20-2024
URL:https://mangalananda.org/event/matri-satsang-of-anandamayi-ma-on-zoom-17/
END:VEVENT
BEGIN:VEVENT
DTSTART;VALUE=DATE:20241128
DTEND;VALUE=DATE:20241130
DTSTAMP:20260424T173305
CREATED:20241027T234551Z
LAST-MODIFIED:20241027T234551Z
UID:2522-1732752000-1732924799@mangalananda.org
SUMMARY:Thanksgiving Retreat at Sivananda Yoga Farm
DESCRIPTION:Thursday\, November 28th; Thanksgiving Retreat at Sivananda Yoga Farm\, Grass Valley; 14651 Ballantree Lane \nRamana\, Gloria and I will be with Prabhu Nam Kaur\, the mother of Snatam Kaur at the Thanksgiving Retreat at the beautiful Yoga Farm in Northern CA. The subject is “Dharma”. Prabhu Nam will give a class on Sikh Dharma and Tradition on Thursday\, Thanksgiving Day. I will give present a kirtan that evening. On Friday\, I will give a class on Dharma and tuning into the Inner Dharma. Friday evening\, Prabhu Nam will give a concert\, support by Gloria\, Ramana and myself.  \nHere is the link for registration: \nhttps://sivanandayogafarm.org/programs/3787/thanksgiving-retreat-walking-true-loves-path-to-freedom/
URL:https://mangalananda.org/event/thanksgiving-retreat-at-sivananda-yoga-farm/
LOCATION:Sivananda Yoga Farm\, Grass Valley\, 14651 Ballantree Ln\, Grass Valley\, CA\, 95949\, United States
END:VEVENT
END:VCALENDAR